BEGIN:VCALENDAR
VERSION:2.0
PRODID:gruene-zirndorf.de
METHOD:PUBLISH
BEGIN:VTIMEZONE
TZID:Europe/Berlin
X-LIC-LOCATION:Europe/Berlin
BEGIN:DAYLIGHT
TZOFFSETFROM:+0100
TZOFFSETTO:+0200
TZNAME:CEST
DTSTART:19700329T020000
RRULE:FREQ=YEARLY;INTERVAL=1;BYDAY=-1SU;BYMONTH=3
END:DAYLIGHT
BEGIN:STANDARD
TZOFFSETFROM:+0200
TZOFFSETTO:+0100
TZNAME:CET
DTSTART:19701025T030000
RRULE:FREQ=YEARLY;INTERVAL=1;BYDAY=-1SU;BYMONTH=10
END:STANDARD
END:VTIMEZONE
BEGIN:VEVENT
UID:f79e1cde8e1816e78d0d5a752f324ec3@gruene-zirndorf.de
URL;VALUE=URI:https://gruene-zirndorf.de/termine/gruene-treff-2/
LOCATION:Gasthof Bub, Fürther Straße 5, 90513 Zirndorf
SUMMARY:Grüne Treff
DESCRIPTION;ALTREP="data:text/html,Jeden%20dritten%20Freitag%20im%20Monat
 %20treffen%20wir%20uns%20und%20besprechen%20alle%20relevanten%20Themen.":
 Jeden dritten Freitag im Monat treffen wir uns und besprechen alle releva
 nten Themen.
CLASS:PUBLIC
DTSTART;TZID=Europe/Berlin:20210924T190000
DTEND;TZID=Europe/Berlin:20210924T200000
DTSTAMP:20260425T021402
END:VEVENT
END:VCALENDAR